BEGIN:VCALENDAR
VERSION:2.0
PRODID:-//Metropolitan North Georgia Water Planning District - ECPv6.15.20//NONSGML v1.0//EN
CALSCALE:GREGORIAN
METHOD:PUBLISH
X-ORIGINAL-URL:https://northgeorgiawater.org
X-WR-CALDESC:Events for Metropolitan North Georgia Water Planning District
REFRESH-INTERVAL;VALUE=DURATION:PT1H
X-Robots-Tag:noindex
X-PUBLISHED-TTL:PT1H
BEGIN:VTIMEZONE
TZID:America/New_York
BEGIN:DAYLIGHT
TZOFFSETFROM:-0500
TZOFFSETTO:-0400
TZNAME:EDT
DTSTART:20220313T070000
END:DAYLIGHT
BEGIN:STANDARD
TZOFFSETFROM:-0400
TZOFFSETTO:-0500
TZNAME:EST
DTSTART:20221106T060000
END:STANDARD
BEGIN:DAYLIGHT
TZOFFSETFROM:-0500
TZOFFSETTO:-0400
TZNAME:EDT
DTSTART:20230312T070000
END:DAYLIGHT
BEGIN:STANDARD
TZOFFSETFROM:-0400
TZOFFSETTO:-0500
TZNAME:EST
DTSTART:20231105T060000
END:STANDARD
BEGIN:DAYLIGHT
TZOFFSETFROM:-0500
TZOFFSETTO:-0400
TZNAME:EDT
DTSTART:20240310T070000
END:DAYLIGHT
BEGIN:STANDARD
TZOFFSETFROM:-0400
TZOFFSETTO:-0500
TZNAME:EST
DTSTART:20241103T060000
END:STANDARD
END:VTIMEZONE
BEGIN:VEVENT
DTSTART;TZID=America/New_York:20230512T093000
DTEND;TZID=America/New_York:20230512T170000
DTSTAMP:20260420T160113
CREATED:20230306T210645Z
LAST-MODIFIED:20230823T200728Z
UID:10000943-1683883800-1683910800@northgeorgiawater.org
SUMMARY:Governing Board Meeting
DESCRIPTION:May 12\, 2023
URL:https://northgeorgiawater.org/event/governing-board-meeting-17/
LOCATION:Covey Rise\, Camilla\, GA
CATEGORIES:Governing Board,Meetings
END:VEVENT
BEGIN:VEVENT
DTSTART;TZID=America/New_York:20230512T090000
DTEND;TZID=America/New_York:20230512T093000
DTSTAMP:20260420T160113
CREATED:20230306T210502Z
LAST-MODIFIED:20230823T200626Z
UID:10000942-1683882000-1683883800@northgeorgiawater.org
SUMMARY:Executive Committee Meeting
DESCRIPTION:May 12\, 2023
URL:https://northgeorgiawater.org/event/executive-committee-meeting-18/
LOCATION:Covey Rise\, Camilla\, GA
CATEGORIES:Executive Committee,Meetings
END:VEVENT
END:VCALENDAR